BEGIN:VCALENDAR
VERSION:2.0
PRODID:icalendar-ruby
CALSCALE:GREGORIAN
METHOD:PUBLISH
BEGIN:VTIMEZONE
TZID:Europe/London
BEGIN:DAYLIGHT
DTSTART:20260329T020000
TZOFFSETFROM:+0000
TZOFFSETTO:+0100
RRULE:FREQ=YEARLY;BYDAY=-1SU;BYMONTH=3
TZNAME:BST
END:DAYLIGHT
BEGIN:STANDARD
DTSTART:20261025T010000
TZOFFSETFROM:+0100
TZOFFSETTO:+0000
RRULE:FREQ=YEARLY;BYDAY=-1SU;BYMONTH=10
TZNAME:GMT
END:STANDARD
END:VTIMEZONE
BEGIN:VEVENT
DTSTAMP:20260425T135043Z
UID:how-to-become-a-stone-medium-performance-and-peer-crit-yuchen-liu-and-a
 ssemble-exchange
DTSTART;TZID=Europe/London:20260428T160000
DTEND;TZID=Europe/London:20260428T170000
LOCATION:Project Space 1\, Assembly Building\, 20 Scott Street\, Glasgow. G
 3 6PE. 
SUMMARY:‘How to Become a Stone Medium’ Performance and peer-crit: Yuche
 n Liu and Assemble\, Exchange
END:VEVENT
END:VCALENDAR
