BEGIN:VCALENDAR
VERSION:2.0
PRODID:icalendar-ruby
CALSCALE:GREGORIAN
METHOD:PUBLISH
BEGIN:VTIMEZONE
TZID:Europe/London
BEGIN:DAYLIGHT
DTSTART:20260329T020000
TZOFFSETFROM:+0000
TZOFFSETTO:+0100
RRULE:FREQ=YEARLY;BYDAY=-1SU;BYMONTH=3
TZNAME:BST
END:DAYLIGHT
BEGIN:STANDARD
DTSTART:20261025T010000
TZOFFSETFROM:+0100
TZOFFSETTO:+0000
RRULE:FREQ=YEARLY;BYDAY=-1SU;BYMONTH=10
TZNAME:GMT
END:STANDARD
END:VTIMEZONE
BEGIN:VEVENT
DTSTAMP:20260425T141336Z
UID:subverting-via-surrealism-with-sequoia-danielle-barnes-and-hardeep-pand
 hal
DTSTART;TZID=Europe/London:20260430T180000
DTEND;TZID=Europe/London:20260430T190000
LOCATION:Reid Lecture Theatre
SUMMARY:Subverting Via Surrealism with Sequoia Danielle Barnes and Hardeep 
 Pandhal 
END:VEVENT
END:VCALENDAR
